BEGIN:VCALENDAR
VERSION:2.0
PRODID:-//The Village Farms | Residents Portal - ECPv6.10.2//NONSGML v1.0//EN
CALSCALE:GREGORIAN
METHOD:PUBLISH
X-ORIGINAL-URL:https://www.thevillagefarms.com
X-WR-CALDESC:Events for The Village Farms | Residents Portal
REFRESH-INTERVAL;VALUE=DURATION:PT1H
X-Robots-Tag:noindex
X-PUBLISHED-TTL:PT1H
BEGIN:VTIMEZONE
TZID:America/Indiana/Indianapolis
BEGIN:DAYLIGHT
TZOFFSETFROM:-0500
TZOFFSETTO:-0400
TZNAME:EDT
DTSTART:20300310T070000
END:DAYLIGHT
BEGIN:STANDARD
TZOFFSETFROM:-0400
TZOFFSETTO:-0500
TZNAME:EST
DTSTART:20301103T060000
END:STANDARD
END:VTIMEZONE
BEGIN:VEVENT
DTSTART;TZID=America/Indiana/Indianapolis:20300423T190000
DTEND;TZID=America/Indiana/Indianapolis:20300423T210000
DTSTAMP:20260420T002649
CREATED:20260112T180100Z
LAST-MODIFIED:20260112T181024Z
UID:10001609-1903201200-1903208400@www.thevillagefarms.com
SUMMARY:2026 Village Farms HOA Meeting: Clubhouse - Upper Level
DESCRIPTION:Village Farms HOA Monthly Meeting Overview \nThe Village Farms HOA Monthly Meeting provides an opportunity for homeowners to stay informed\, share feedback\, and participate in discussions about the community. During the meeting\, the Board will review recent activities\, financial updates\, and ongoing or upcoming projects. Homeowners will also have the chance to ask questions\, raise concerns\, and provide input on matters affecting the neighborhood. We encourage all residents to attend and take part in helping keep Village Farms a well-maintained and welcoming community.
URL:https://www.thevillagefarms.com/event/2026-village-farms-hoa-meeting-clubhouse-upper-level-2/2030-04-23/
LOCATION:The Village Farms Clubhouse – Upper Level\, 453 E Greyhound Pass\, Carmel\, IN\, 46032\, United States
CATEGORIES:HOA Meeting
ATTACH;FMTTYPE=image/jpeg:https://www.thevillagefarms.com/media/DSC01622-scaled.jpg
END:VEVENT
BEGIN:VEVENT
DTSTART;TZID=America/Indiana/Indianapolis:20300528T190000
DTEND;TZID=America/Indiana/Indianapolis:20300528T210000
DTSTAMP:20260420T002649
CREATED:20260112T180100Z
LAST-MODIFIED:20260112T181024Z
UID:10001610-1906225200-1906232400@www.thevillagefarms.com
SUMMARY:2026 Village Farms HOA Meeting: Clubhouse - Upper Level
DESCRIPTION:Village Farms HOA Monthly Meeting Overview \nThe Village Farms HOA Monthly Meeting provides an opportunity for homeowners to stay informed\, share feedback\, and participate in discussions about the community. During the meeting\, the Board will review recent activities\, financial updates\, and ongoing or upcoming projects. Homeowners will also have the chance to ask questions\, raise concerns\, and provide input on matters affecting the neighborhood. We encourage all residents to attend and take part in helping keep Village Farms a well-maintained and welcoming community.
URL:https://www.thevillagefarms.com/event/2026-village-farms-hoa-meeting-clubhouse-upper-level-2/2030-05-28/
LOCATION:The Village Farms Clubhouse – Upper Level\, 453 E Greyhound Pass\, Carmel\, IN\, 46032\, United States
CATEGORIES:HOA Meeting
ATTACH;FMTTYPE=image/jpeg:https://www.thevillagefarms.com/media/DSC01622-scaled.jpg
END:VEVENT
BEGIN:VEVENT
DTSTART;TZID=America/Indiana/Indianapolis:20300625T190000
DTEND;TZID=America/Indiana/Indianapolis:20300625T210000
DTSTAMP:20260420T002649
CREATED:20260112T180100Z
LAST-MODIFIED:20260112T181024Z
UID:10001611-1908644400-1908651600@www.thevillagefarms.com
SUMMARY:2026 Village Farms HOA Meeting: Clubhouse - Upper Level
DESCRIPTION:Village Farms HOA Monthly Meeting Overview \nThe Village Farms HOA Monthly Meeting provides an opportunity for homeowners to stay informed\, share feedback\, and participate in discussions about the community. During the meeting\, the Board will review recent activities\, financial updates\, and ongoing or upcoming projects. Homeowners will also have the chance to ask questions\, raise concerns\, and provide input on matters affecting the neighborhood. We encourage all residents to attend and take part in helping keep Village Farms a well-maintained and welcoming community.
URL:https://www.thevillagefarms.com/event/2026-village-farms-hoa-meeting-clubhouse-upper-level-2/2030-06-25/
LOCATION:The Village Farms Clubhouse – Upper Level\, 453 E Greyhound Pass\, Carmel\, IN\, 46032\, United States
CATEGORIES:HOA Meeting
ATTACH;FMTTYPE=image/jpeg:https://www.thevillagefarms.com/media/DSC01622-scaled.jpg
END:VEVENT
BEGIN:VEVENT
DTSTART;TZID=America/Indiana/Indianapolis:20300723T190000
DTEND;TZID=America/Indiana/Indianapolis:20300723T210000
DTSTAMP:20260420T002649
CREATED:20260112T180100Z
LAST-MODIFIED:20260112T181024Z
UID:10001612-1911063600-1911070800@www.thevillagefarms.com
SUMMARY:2026 Village Farms HOA Meeting: Clubhouse - Upper Level
DESCRIPTION:Village Farms HOA Monthly Meeting Overview \nThe Village Farms HOA Monthly Meeting provides an opportunity for homeowners to stay informed\, share feedback\, and participate in discussions about the community. During the meeting\, the Board will review recent activities\, financial updates\, and ongoing or upcoming projects. Homeowners will also have the chance to ask questions\, raise concerns\, and provide input on matters affecting the neighborhood. We encourage all residents to attend and take part in helping keep Village Farms a well-maintained and welcoming community.
URL:https://www.thevillagefarms.com/event/2026-village-farms-hoa-meeting-clubhouse-upper-level-2/2030-07-23/
LOCATION:The Village Farms Clubhouse – Upper Level\, 453 E Greyhound Pass\, Carmel\, IN\, 46032\, United States
CATEGORIES:HOA Meeting
ATTACH;FMTTYPE=image/jpeg:https://www.thevillagefarms.com/media/DSC01622-scaled.jpg
END:VEVENT
BEGIN:VEVENT
DTSTART;TZID=America/Indiana/Indianapolis:20300827T190000
DTEND;TZID=America/Indiana/Indianapolis:20300827T210000
DTSTAMP:20260420T002649
CREATED:20260112T180100Z
LAST-MODIFIED:20260112T181024Z
UID:10001613-1914087600-1914094800@www.thevillagefarms.com
SUMMARY:2026 Village Farms HOA Meeting: Clubhouse - Upper Level
DESCRIPTION:Village Farms HOA Monthly Meeting Overview \nThe Village Farms HOA Monthly Meeting provides an opportunity for homeowners to stay informed\, share feedback\, and participate in discussions about the community. During the meeting\, the Board will review recent activities\, financial updates\, and ongoing or upcoming projects. Homeowners will also have the chance to ask questions\, raise concerns\, and provide input on matters affecting the neighborhood. We encourage all residents to attend and take part in helping keep Village Farms a well-maintained and welcoming community.
URL:https://www.thevillagefarms.com/event/2026-village-farms-hoa-meeting-clubhouse-upper-level-2/2030-08-27/
LOCATION:The Village Farms Clubhouse – Upper Level\, 453 E Greyhound Pass\, Carmel\, IN\, 46032\, United States
CATEGORIES:HOA Meeting
ATTACH;FMTTYPE=image/jpeg:https://www.thevillagefarms.com/media/DSC01622-scaled.jpg
END:VEVENT
BEGIN:VEVENT
DTSTART;TZID=America/Indiana/Indianapolis:20300924T190000
DTEND;TZID=America/Indiana/Indianapolis:20300924T210000
DTSTAMP:20260420T002649
CREATED:20260112T180100Z
LAST-MODIFIED:20260112T181024Z
UID:10001614-1916506800-1916514000@www.thevillagefarms.com
SUMMARY:2026 Village Farms HOA Meeting: Clubhouse - Upper Level
DESCRIPTION:Village Farms HOA Monthly Meeting Overview \nThe Village Farms HOA Monthly Meeting provides an opportunity for homeowners to stay informed\, share feedback\, and participate in discussions about the community. During the meeting\, the Board will review recent activities\, financial updates\, and ongoing or upcoming projects. Homeowners will also have the chance to ask questions\, raise concerns\, and provide input on matters affecting the neighborhood. We encourage all residents to attend and take part in helping keep Village Farms a well-maintained and welcoming community.
URL:https://www.thevillagefarms.com/event/2026-village-farms-hoa-meeting-clubhouse-upper-level-2/2030-09-24/
LOCATION:The Village Farms Clubhouse – Upper Level\, 453 E Greyhound Pass\, Carmel\, IN\, 46032\, United States
CATEGORIES:HOA Meeting
ATTACH;FMTTYPE=image/jpeg:https://www.thevillagefarms.com/media/DSC01622-scaled.jpg
END:VEVENT
BEGIN:VEVENT
DTSTART;TZID=America/Indiana/Indianapolis:20301022T190000
DTEND;TZID=America/Indiana/Indianapolis:20301022T210000
DTSTAMP:20260420T002649
CREATED:20260112T180100Z
LAST-MODIFIED:20260112T181024Z
UID:10001615-1918926000-1918933200@www.thevillagefarms.com
SUMMARY:2026 Village Farms HOA Meeting: Clubhouse - Upper Level
DESCRIPTION:Village Farms HOA Monthly Meeting Overview \nThe Village Farms HOA Monthly Meeting provides an opportunity for homeowners to stay informed\, share feedback\, and participate in discussions about the community. During the meeting\, the Board will review recent activities\, financial updates\, and ongoing or upcoming projects. Homeowners will also have the chance to ask questions\, raise concerns\, and provide input on matters affecting the neighborhood. We encourage all residents to attend and take part in helping keep Village Farms a well-maintained and welcoming community.
URL:https://www.thevillagefarms.com/event/2026-village-farms-hoa-meeting-clubhouse-upper-level-2/2030-10-22/
LOCATION:The Village Farms Clubhouse – Upper Level\, 453 E Greyhound Pass\, Carmel\, IN\, 46032\, United States
CATEGORIES:HOA Meeting
ATTACH;FMTTYPE=image/jpeg:https://www.thevillagefarms.com/media/DSC01622-scaled.jpg
END:VEVENT
BEGIN:VEVENT
DTSTART;TZID=America/Indiana/Indianapolis:20301126T190000
DTEND;TZID=America/Indiana/Indianapolis:20301126T210000
DTSTAMP:20260420T002649
CREATED:20260112T180100Z
LAST-MODIFIED:20260112T181024Z
UID:10001616-1921950000-1921957200@www.thevillagefarms.com
SUMMARY:2026 Village Farms HOA Meeting: Clubhouse - Upper Level
DESCRIPTION:Village Farms HOA Monthly Meeting Overview \nThe Village Farms HOA Monthly Meeting provides an opportunity for homeowners to stay informed\, share feedback\, and participate in discussions about the community. During the meeting\, the Board will review recent activities\, financial updates\, and ongoing or upcoming projects. Homeowners will also have the chance to ask questions\, raise concerns\, and provide input on matters affecting the neighborhood. We encourage all residents to attend and take part in helping keep Village Farms a well-maintained and welcoming community.
URL:https://www.thevillagefarms.com/event/2026-village-farms-hoa-meeting-clubhouse-upper-level-2/2030-11-26/
LOCATION:The Village Farms Clubhouse – Upper Level\, 453 E Greyhound Pass\, Carmel\, IN\, 46032\, United States
CATEGORIES:HOA Meeting
ATTACH;FMTTYPE=image/jpeg:https://www.thevillagefarms.com/media/DSC01622-scaled.jpg
END:VEVENT
BEGIN:VEVENT
DTSTART;TZID=America/Indiana/Indianapolis:20301224T190000
DTEND;TZID=America/Indiana/Indianapolis:20301224T210000
DTSTAMP:20260420T002649
CREATED:20260112T180100Z
LAST-MODIFIED:20260112T181024Z
UID:10001617-1924369200-1924376400@www.thevillagefarms.com
SUMMARY:2026 Village Farms HOA Meeting: Clubhouse - Upper Level
DESCRIPTION:Village Farms HOA Monthly Meeting Overview \nThe Village Farms HOA Monthly Meeting provides an opportunity for homeowners to stay informed\, share feedback\, and participate in discussions about the community. During the meeting\, the Board will review recent activities\, financial updates\, and ongoing or upcoming projects. Homeowners will also have the chance to ask questions\, raise concerns\, and provide input on matters affecting the neighborhood. We encourage all residents to attend and take part in helping keep Village Farms a well-maintained and welcoming community.
URL:https://www.thevillagefarms.com/event/2026-village-farms-hoa-meeting-clubhouse-upper-level-2/2030-12-24/
LOCATION:The Village Farms Clubhouse – Upper Level\, 453 E Greyhound Pass\, Carmel\, IN\, 46032\, United States
CATEGORIES:HOA Meeting
ATTACH;FMTTYPE=image/jpeg:https://www.thevillagefarms.com/media/DSC01622-scaled.jpg
END:VEVENT
END:VCALENDAR