BEGIN:VCALENDAR
VERSION:2.0
PRODID:-//The Village Farms | Residents Portal - ECPv6.10.2//NONSGML v1.0//EN
CALSCALE:GREGORIAN
METHOD:PUBLISH
X-ORIGINAL-URL:https://www.thevillagefarms.com
X-WR-CALDESC:Events for The Village Farms | Residents Portal
REFRESH-INTERVAL;VALUE=DURATION:PT1H
X-Robots-Tag:noindex
X-PUBLISHED-TTL:PT1H
BEGIN:VTIMEZONE
TZID:America/Indiana/Indianapolis
BEGIN:DAYLIGHT
TZOFFSETFROM:-0500
TZOFFSETTO:-0400
TZNAME:EDT
DTSTART:20260308T070000
END:DAYLIGHT
BEGIN:STANDARD
TZOFFSETFROM:-0400
TZOFFSETTO:-0500
TZNAME:EST
DTSTART:20261101T060000
END:STANDARD
END:VTIMEZONE
BEGIN:VEVENT
DTSTART;TZID=America/Indiana/Indianapolis:20260324T190000
DTEND;TZID=America/Indiana/Indianapolis:20260324T210000
DTSTAMP:20260419T191621
CREATED:20260112T180100Z
LAST-MODIFIED:20260112T181024Z
UID:10001560-1774378800-1774386000@www.thevillagefarms.com
SUMMARY:2026 Village Farms HOA Meeting: Clubhouse - Upper Level
DESCRIPTION:Village Farms HOA Monthly Meeting Overview \nThe Village Farms HOA Monthly Meeting provides an opportunity for homeowners to stay informed\, share feedback\, and participate in discussions about the community. During the meeting\, the Board will review recent activities\, financial updates\, and ongoing or upcoming projects. Homeowners will also have the chance to ask questions\, raise concerns\, and provide input on matters affecting the neighborhood. We encourage all residents to attend and take part in helping keep Village Farms a well-maintained and welcoming community.
URL:https://www.thevillagefarms.com/event/2026-village-farms-hoa-meeting-clubhouse-upper-level-2/2026-03-24/
LOCATION:The Village Farms Clubhouse – Upper Level\, 453 E Greyhound Pass\, Carmel\, IN\, 46032\, United States
CATEGORIES:HOA Meeting
ATTACH;FMTTYPE=image/jpeg:https://www.thevillagefarms.com/media/DSC01622-scaled.jpg
END:VEVENT
BEGIN:VEVENT
DTSTART;TZID=America/Indiana/Indianapolis:20260224T190000
DTEND;TZID=America/Indiana/Indianapolis:20260224T210000
DTSTAMP:20260419T191621
CREATED:20260112T180100Z
LAST-MODIFIED:20260112T181024Z
UID:10001559-1771959600-1771966800@www.thevillagefarms.com
SUMMARY:2026 Village Farms HOA Meeting: Clubhouse - Upper Level
DESCRIPTION:Village Farms HOA Monthly Meeting Overview \nThe Village Farms HOA Monthly Meeting provides an opportunity for homeowners to stay informed\, share feedback\, and participate in discussions about the community. During the meeting\, the Board will review recent activities\, financial updates\, and ongoing or upcoming projects. Homeowners will also have the chance to ask questions\, raise concerns\, and provide input on matters affecting the neighborhood. We encourage all residents to attend and take part in helping keep Village Farms a well-maintained and welcoming community.
URL:https://www.thevillagefarms.com/event/2026-village-farms-hoa-meeting-clubhouse-upper-level-2/2026-02-24/
LOCATION:The Village Farms Clubhouse – Upper Level\, 453 E Greyhound Pass\, Carmel\, IN\, 46032\, United States
CATEGORIES:HOA Meeting
ATTACH;FMTTYPE=image/jpeg:https://www.thevillagefarms.com/media/DSC01622-scaled.jpg
END:VEVENT
BEGIN:VEVENT
DTSTART;TZID=America/Indiana/Indianapolis:20260127T190000
DTEND;TZID=America/Indiana/Indianapolis:20260127T210000
DTSTAMP:20260419T191621
CREATED:20260112T180100Z
LAST-MODIFIED:20260112T181024Z
UID:10001558-1769540400-1769547600@www.thevillagefarms.com
SUMMARY:2026 Village Farms HOA Meeting: Clubhouse - Upper Level
DESCRIPTION:Village Farms HOA Monthly Meeting Overview \nThe Village Farms HOA Monthly Meeting provides an opportunity for homeowners to stay informed\, share feedback\, and participate in discussions about the community. During the meeting\, the Board will review recent activities\, financial updates\, and ongoing or upcoming projects. Homeowners will also have the chance to ask questions\, raise concerns\, and provide input on matters affecting the neighborhood. We encourage all residents to attend and take part in helping keep Village Farms a well-maintained and welcoming community.
URL:https://www.thevillagefarms.com/event/2026-village-farms-hoa-meeting-clubhouse-upper-level-2/2026-01-27/
LOCATION:The Village Farms Clubhouse – Upper Level\, 453 E Greyhound Pass\, Carmel\, IN\, 46032\, United States
CATEGORIES:HOA Meeting
ATTACH;FMTTYPE=image/jpeg:https://www.thevillagefarms.com/media/DSC01622-scaled.jpg
END:VEVENT
END:VCALENDAR